BEGIN:VCALENDAR
VERSION:2.0
PRODID:-//sebbo.net//ical-generator//EN
METHOD:PUBLISH
TIMEZONE-ID:Europe/Zurich
X-WR-TIMEZONE:Europe/Zurich
BEGIN:VEVENT
UID:f393e3f3-5e95-4f30-98be-40fa415a2b5c
SEQUENCE:0
DTSTAMP:20260423T140144
DTSTART:20251126T190000
DTEND:20251126T200000
SUMMARY:Wohin steuert die junge Generation in Architektur und Kunst? - Arc
 hitektur und Kunst
LOCATION:Gare du Nord | Schwarzwaldallee 200\, Basel\, CH
DESCRIPTION:Kollektive in Architektur und Kunst suchen neue Wege – und d
 as Miteinander zählt mehr als ausgetretene\, konventionelle Konzepte. Was
  veraendert sich dadurch? Koennen sich Form und Inhalt im Zusammenspiel zw
 ischen Architektur und Kunst zu einer Einheit verbinden? Wird Nachhaltigke
 it selbstverstaendlich mitgedacht? Schafft die Naehe zum Menschen eine leb
 endigere Beziehung zwischen Subjekt und Objekt?\n\nArchitektur Dialoge und
  Visarte laden ein\, gemeinsam ueber ein Thema zu sprechen\, das weit uebe
 r unsere Gegenwart hinausreicht. „Wie wollen wir leben?“ diese pragmat
 ische Frage stellte eine der letzten Architekturbiennalen in Venedig. Unse
 re Leitfrage fuer das Gespraech:\n\nWie koennen wir gemeinsam Visionen ent
 wickeln\, Utopien gestalten und sie in die Realitaet umsetzen?\n\nUnterst
 ützt von Swisslos Basel-Stadt\, Ernst Göhner Stiftung\, Ernst und Hedwig
  Bachofen-Henn-Stiftung\, SABAG\, Architekt Rolf Stalder und Egeler Lutz A
 G
ORGANIZER;CN="Architektur Dialoge in Kooperation mit Visarte":mailto:info@
 architekturdialoge.ch
URL;VALUE=URI:https://architekturdialoge.ch/api/agenda-deeplink/68eecb75fa
 652b222187eb2c
END:VEVENT
END:VCALENDAR