BEGIN:VCALENDAR
VERSION:2.0
PRODID:-//sebbo.net//ical-generator//EN
METHOD:PUBLISH
TIMEZONE-ID:Europe/Zurich
X-WR-TIMEZONE:Europe/Zurich
BEGIN:VEVENT
UID:00abf1a4-a656-4a80-a361-2b52192f77a0
SEQUENCE:0
DTSTAMP:20260423T134547
DTSTART:20251112T190000
DTEND:20251112T200000
SUMMARY:Architektur oder Kunst? Über das Spannungsfeld kreativer Autorens
 chaft - Architektur und Kunst
LOCATION:Gare du Nord | Schwarzwaldallee 200\, Basel\, CH
DESCRIPTION:Braucht die Architektur die Kunst – oder ist sie selbst län
 gst Kunst genug? Spätestens seit Architekt:innen in Wettbewerben für Kun
 st am Bau erfolgreich mit eigenen Konzepten auftreten\, stellt sich die Fr
 age neu: Welche Rolle spielen Künstler:innen noch in der Gestaltung gebau
 ter Räume? Und was kann aus der Zusammenarbeit entstehen\, was Architektu
 r allein nicht leisten kann?\n\nArchitektur Dialoge und Visarte laden ein 
 zu einem Abend\, der den Dialog zwischen den Disziplinen in den Mittelpunk
 t stellt. Anhand aktueller Beispiele und kontroverser Erfahrungen diskutie
 ren wir die kreative Autorenschaft im Spannungsfeld von Baukultur\, Reprä
 sentation und öffentlicher Wirkung.\n\nWir freuen uns auf eine lebendige 
 Diskussion über Rollenverständnisse\, Gestaltungsansprüche – und übe
 r das\, was zwischen den Disziplinen entsteht.\n\nUnterstützt von Swisslo
 s Basel-Stadt\, Ernst Göhner Stiftung\, Ernst und Hedwig Bachofen-Henn-St
 iftung\, SABAG\, Architekt Rolf Stalder und Egeler Lutz AG
ORGANIZER;CN="Architektur Dialoge in Kooperation mit Visarte":mailto:info@
 architekturdialoge.ch
URL;VALUE=URI:https://architekturdialoge.ch/api/agenda-deeplink/68eecb9ffa
 652b222187eb92
END:VEVENT
END:VCALENDAR