BEGIN:VCALENDAR
VERSION:2.0
PRODID:-//sebbo.net//ical-generator//EN
METHOD:PUBLISH
TIMEZONE-ID:Europe/Zurich
X-WR-TIMEZONE:Europe/Zurich
BEGIN:VEVENT
UID:8bdff539-0386-49f4-9fd5-7fdcdefe9966
SEQUENCE:0
DTSTAMP:20260423T135142
DTSTART:20251104T180000
DTEND:20251104T190000
SUMMARY:Farbwelten für das Blindenheim - Making of
LOCATION:irides AG | Kohlenberggasse 20\, Basel\, CH
DESCRIPTION:Architekt Marco Rickenbacher und Projektleiter Philippe Ayer (
 SERA) sowie Peter Schweizer (Brillux) geben Einblick in die Farb- und Arch
 itekturkonzeption des Blindenheims Basel. \n\nBlind ist nicht gleich blind
 : Viele Bewohnerinnen und Bewohner verfuegen ueber Restsehvermogen oder si
 nd lichtsensibel. Orientierung entsteht ueber starke Hell-Dunkel-Kontraste
 \, farbig markierte Waende und tastbare Strukturen. Gemeinsam mit dem Farb
 enhersteller Brillux wurden Muster entwickelt und geprueft.\n\nEin Rundgan
 g\, eine Präsentation und ein Gespräch vor Ort machen sichtbar\, wie Far
 ben Alltag und Selbstständigkeit praegen. Zum Abschluss laden wir herzlic
 h zum Apero ein.\n\nDas Blindenheim Basel ist ein Projekt von Esch Sintzel
  Architekten. Aus Esch Sintzel Architekten sind 2024 zwei neue Büros herv
 orgegangen: Studio Sintzel und SERA – Studio Esch Rickenbacher Architekt
 ur. \n\nMit freundlicher Unterstützung und in Kooperation mit Brillux.
ORGANIZER;CN="Architektur Dialoge":mailto:info@architekturdialoge.ch
URL;VALUE=URI:https://architekturdialoge.ch/api/agenda-deeplink/68eecbc1fa
 652b222187ebc8
END:VEVENT
END:VCALENDAR