BEGIN:VCALENDAR
VERSION:2.0
PRODID:-//sebbo.net//ical-generator//EN
METHOD:PUBLISH
TIMEZONE-ID:Europe/Zurich
X-WR-TIMEZONE:Europe/Zurich
BEGIN:VEVENT
UID:52b44902-6d6b-4161-a601-6342bd055ba2
SEQUENCE:0
DTSTAMP:20260423T135442
DTSTART:20251023T183000
DTEND:20251023T193000
SUMMARY:Bruther - Vortrag
LOCATION:Helvetia Campus | St. Alban-Anlage 26\, Basel\, CH
DESCRIPTION:Bruther ist ein Architekturstudio mit Sitz in Paris und Züric
 h\, das 2007 von Stephanie Bru und Alexandre Theriot gegründet wurde. \n\
 nDiese Generation Architekten startete ihre Karriere zu Beginn der Rezessi
 on. Darin spiegelt sich\, wie sie Architektur definiert: als Schweizer Tas
 chenmesser – ein Werkzeug\, das unter verschiedensten Umständen eingese
 tzt werden kann\, eine Hilfe\, die alle Bereiche des Wissens zusammenbring
 t. \nDie jüngsten Projekte verweisen auf ein heikles Gleichgewicht zwisch
 en Strategie und Form\, Konsequenz und Freiheit\, Spezifischem und Generis
 chem\, Unmittelbarkeit und Entwicklungsfähigkeit. \n\nDie beiden Gründer
 innen lehren an mehreren Architekturschulen weltweit als ausserordentliche
  Professorinnen für Architektur und Design. \n\nZusammen organisiert mit 
 und eine Höhepunktveranstaltung des Festivals Die Architekturtage | Les J
 ournees de larchitecture\, MEA.
ORGANIZER;CN="Architektur Dialoge Basel in Kooperation mit MEA":mailto:inf
 o@architekturdialoge.ch
URL;VALUE=URI:https://architekturdialoge.ch/api/agenda-deeplink/68eecbe8fa
 652b222187ec0b
END:VEVENT
END:VCALENDAR