BEGIN:VCALENDAR
VERSION:2.0
PRODID:-//sebbo.net//ical-generator//EN
METHOD:PUBLISH
TIMEZONE-ID:Europe/Zurich
X-WR-TIMEZONE:Europe/Zurich
BEGIN:VEVENT
UID:88d8a686-c598-4344-b626-82cbeddade4d
SEQUENCE:0
DTSTAMP:20260423T134840
DTSTART:20251017T123000
DTEND:20251017T133000
SUMMARY:NOVARTIS CAMPUS - Mittagsführung
LOCATION:NOVARTIS CAMPUS | Fabrikstrasse 2\, Basel\, CH
DESCRIPTION:Nach dem Motto „Leerräume=Denkräume“ besichtigen wir Bü
 roflächen\, die sich im Umbruch befinden. Der Novartis Campus Basel ist e
 in Campus des Wissens\, der Innovation und der Begegnung. Das Areal mit se
 inen zahlreichen Forschungs- und Bürogebäuden und dem städtischen Ausse
 nraum hat sich in den letzten Jahren von einem geschlossenen Campus zu ein
 em öffentlich zugänglichen Ort entwickelt.\n\nNelly Riggenbach gibt uns 
 Einblicke in den offenen Campus und spricht über seine Bedeutung für die
  Stadt und das Quartier. Durch eine Performance vom Künstler und Tänzer 
 Timo Paris erleben wir die Räume sinnlich und bekommen Anregungen zur Fra
 ge\, welche Anpassungen und Verlagerungen von Nutzungen zukünftig denkbar
  wären.\n\nStädtebau: 2000\, Vittorio Magnago Lampugnani
ORGANIZER;CN="Architektur Dialoge":mailto:info@architekturdialoge.ch
URL;VALUE=URI:https://architekturdialoge.ch/api/agenda-deeplink/68eecc05fa
 652b222187ec4e
END:VEVENT
END:VCALENDAR