BEGIN:VCALENDAR
VERSION:2.0
PRODID:-//sebbo.net//ical-generator//EN
METHOD:PUBLISH
TIMEZONE-ID:Europe/Zurich
X-WR-TIMEZONE:Europe/Zurich
BEGIN:VEVENT
UID:1d470b46-c519-4910-88d1-d3f6bb752b70
SEQUENCE:0
DTSTAMP:20260423T135520
DTSTART:20251016T123000
DTEND:20251016T133000
SUMMARY:Messeturm Basel - Mittagsführung
LOCATION:Messeplatz 10\, Basel\, CH
DESCRIPTION:Nach dem Motto „Leerräume=Denkräume“\, besichtigen wir n
 icht ausgelastete Bürogebäude. Angeregt durch eine Performance vom Küns
 tler und Tänzer Timo Paris\, beschäftigen wir uns mit der Frage\, welche
  Anpassungen und Verlagerungen von Nutzungen zukünftig denkbar wären.\n\
 nIm Messeturm Basel wurden vor kurzem mehrere Geschosse saniert und auf de
 n neusten Stand gebracht\, um den modernen Anforderungen an Büroräume ge
 recht zu werden. Das dreissig Geschosse zählende Hochhaus nimmt Büros\, 
 Hotel und Restaurant auf. Seine städtebauliche Position betont die Achse 
 von der Mittleren Brücke zum Badischen Bahnhof. Der über dem Erdgeschoss
  eingeschobene und auskragende Körper schafft ein Gegengewicht zum schlan
 k aufragenden Turm.\n\nArchitektur: 2003\, Morger & Degelo mit Daniele Mar
 ques\n\nMeinrad Morger\, Morger Partner Architekten\n\nKeine Anmeldung erf
 orderlich – kommen Sie einfach vorbei!
ORGANIZER;CN="Architektur Dialoge":mailto:info@architekturdialoge.ch
URL;VALUE=URI:https://architekturdialoge.ch/api/agenda-deeplink/68eecc21fa
 652b222187ec95
END:VEVENT
END:VCALENDAR