BEGIN:VCALENDAR
VERSION:2.0
PRODID:-//sebbo.net//ical-generator//EN
METHOD:PUBLISH
TIMEZONE-ID:Europe/Zurich
X-WR-TIMEZONE:Europe/Zurich
BEGIN:VEVENT
UID:b7ae9180-a434-40b0-914f-22df63ccb545
SEQUENCE:0
DTSTAMP:20260423T135008
DTSTART:20251015T123000
DTEND:20251015T133000
SUMMARY:Aeschenplatz 6 «Hammering Man» - Mittagsführung
LOCATION:Aeschenplatz 6\, Basel\, CH
DESCRIPTION:Nach dem Motto „Leerräume=Denkräume“ besichtigen wir nic
 ht ausgelastete Bürogebäude. Angeregt durch eine Performance vom Künstl
 er und Tänzer Timo Paris\, beschäftigen wir uns mit der Frage\, welche A
 npassungen und Verlagerungen von Nutzungen zukünftig denkbar wären.\n\nD
 er ursprungliche Hauptsitz vom schweizerischen Bankverein hinter dem „Ha
 mmering Man“ wird neu zu einem multifunktionalen Wohn- und Gewerbeareal.
  Das Bauwerk tritt zum Aeschenplatz mit einer langen Fassade in Erscheinun
 g. Sie ist durch massive Doppelstützen gegliedert und durch einen filigra
 nen Glaskubus unterbrochen. Auf der Rückseite besetzen drei polygonale Fl
 ügel den ausgreifenden Hofraum.\n\nArchitektur: 1986\, Burckhardt + Partn
 er\n\nJürg Graser\, Graser Troxler Architekten\n\nKeine Anmeldung erforde
 rlich – kommen Sie einfach vorbei!
ORGANIZER;CN="Architektur Dialoge":mailto:info@architekturdialoge.ch
URL;VALUE=URI:https://architekturdialoge.ch/api/agenda-deeplink/68eecc2ffa
 652b222187ecb1
END:VEVENT
END:VCALENDAR