BEGIN:VCALENDAR
VERSION:2.0
PRODID:-//sebbo.net//ical-generator//EN
METHOD:PUBLISH
TIMEZONE-ID:Europe/Zurich
X-WR-TIMEZONE:Europe/Zurich
BEGIN:VEVENT
UID:1ed1f71e-f6cf-43ea-8962-83b458cb1e3d
SEQUENCE:0
DTSTAMP:20260423T134547
DTSTART:20251014T123000
DTEND:20251014T133000
SUMMARY:Businesscenter VIA Basel - Mittagsführung
LOCATION:Viaduktstrasse 33\, Basel\, CH
DESCRIPTION:Nach dem Motto „Leerräume=Denkräume“ besichtigen wir nic
 ht ausgelastete Bürogebäude. Angeregt durch eine Performance vom Künstl
 er und Tänzer Timo Paris beschäftigen wir uns mit der Frage\, welche Anp
 assungen und Verlagerungen von Nutzungen zukünftig denkbar wären.\n\nDas
  ehemalige Ausbildungs- und Konferenzzentrum wird aktuell saniert und biet
 et flexible\, grossflächige und moderne Büroflächen. Das Haus gliedert 
 sich in einen kompakten Sockel und kammartig aufgesetzte Bürotrakte. Es b
 egrenzt den Strassenraum mit einer prägnanten Klinkersteinfassade. Auf de
 r Rückseite werden die Klinkersteine abgetreppt und die Innenhöfe im unt
 eren Bereich vom Gleisfeld abgeschirmt.\n\nArchitektur: 1994\, Diener & Di
 ener. Einführung: Dorothee Huber\, Architekturhistorikerin. Führung: For
 ian Hug\, Vischer Architekten. Keine Anmeldung erforderlich – kommen Sie
  einfach vorbei! Foto: Esther Baur. Unterstützt von der Sulger Stiftung u
 nd der IWB. Vielen Dank!
ORGANIZER;CN="Architektur Dialoge":mailto:info@architekturdialoge.ch
URL;VALUE=URI:https://architekturdialoge.ch/api/agenda-deeplink/68eecc41fa
 652b222187ece8
END:VEVENT
END:VCALENDAR