BEGIN:VCALENDAR
VERSION:2.0
PRODID:-//sebbo.net//ical-generator//EN
METHOD:PUBLISH
TIMEZONE-ID:Europe/Zurich
X-WR-TIMEZONE:Europe/Zurich
BEGIN:VEVENT
UID:4035766f-5461-4a4d-9553-19b00c3dbd83
SEQUENCE:0
DTSTAMP:20260423T135351
DTSTART:20251013T123000
DTEND:20251013T133000
SUMMARY:Postbetriebsgebäude «Rostbalken» - Mittagsführung
LOCATION:Gartenstrasse 149\, Basel\, CH
DESCRIPTION:Nach dem Motto „Leerräume=Denkräume“\, besichtigen wir n
 icht ausgelastete Bürogebäude. Angeregt durch eine Performance vom Küns
 tler und Tänzer Timo Paris\, beschäftigen wir uns mit der Frage\, welche
  Anpassungen und Verlagerungen von Nutzungen zukünftig denkbar wären.\n\
 nDas Postbetriebsgebäude ist ein Glanzstück der Ingenieursbaukunst und w
 ar das grösste Gebäude in der Geschichte der PTT\, wie die Post damals h
 iess. Aktuell wird es zwischengenutzt und bildet heute den Perimeter für 
 das Projekt Nauentor. Das Nauentor verbindet den Langsamverkehr mit dem Gu
 ndeldingen-Quartier\, sieht einen Sockelbau für gemischte Nutzungen und d
 rei Hochhäuser mit einem grossen Anteil Wohnungen vor. Das Siegerteam hat
  vorgeschlagen\, einen grossen Teil der heutigen Gebäudestruktur zu erhal
 ten. Im Sinne der Kreislaufwirtschaft wird ein konsequenter Ansatz des „
 Re-Use und Weiterbauens“ verfolgt.\n\nArchitektur: 1971\, Suter + Suter
ORGANIZER;CN="Architektur Dialoge":mailto:info@architekturdialoge.ch
URL;VALUE=URI:https://architekturdialoge.ch/api/agenda-deeplink/68eecc4bfa
 652b222187ecfb
END:VEVENT
END:VCALENDAR