BEGIN:VCALENDAR
VERSION:2.0
PRODID:-//sebbo.net//ical-generator//EN
METHOD:PUBLISH
TIMEZONE-ID:Europe/Zurich
X-WR-TIMEZONE:Europe/Zurich
BEGIN:VEVENT
UID:8f290729-b86e-4be4-9d65-9e937b7925c0
SEQUENCE:0
DTSTAMP:20260423T135439
DTSTART:20250925T120000
DTEND:20250925T140000
SUMMARY:Auf dem Hummel - HIER UND JETZT NO. 5/2025
LOCATION:Auf dem Hummel 7\, Basel\, CH
DESCRIPTION:Das dreigeschossige Wohnhaus auf dem Hummel setzt als suedlich
 er Abschluss den Schlusspunkt eines Ensembles von drei Reihenhaeusern. Sei
 n schlankes Bauvolumen zeichnet sich durch einen eingeschossigen\, langges
 treckten Gebaeudekörper aus\, der tief in den Garten bis beinahe an die h
 intere Grundstuecksgreunze greift und so spannungsreiche Raumbeziehungen a
 ufbaut.\n\nIm Inneren sorgen Tueren und Waende aus Dreischichtplatten fuer
  eine einheitliche Gestaltung\, kontrastiert von einer skulpturalen\, farb
 lich akzentuierten Stahltreppe.
ORGANIZER;CN="Architektur Dialoge":mailto:info@architekturdialoge.ch
URL;VALUE=URI:https://architekturdialoge.ch/api/agenda-deeplink/68eecc72fa
 652b222187ed51
END:VEVENT
END:VCALENDAR