BEGIN:VCALENDAR
VERSION:2.0
PRODID:-//sebbo.net//ical-generator//EN
METHOD:PUBLISH
TIMEZONE-ID:Europe/Zurich
X-WR-TIMEZONE:Europe/Zurich
BEGIN:VEVENT
UID:f833967f-b682-4abb-a0b7-84e7a3e65aa2
SEQUENCE:0
DTSTAMP:20260423T175121
DTSTART:20250922T173000
DTEND:20250922T183000
SUMMARY:CoDeck: Aus Bürogebäude wird Wohnhaus - Hier und jetzt NO. 4/202
 5
LOCATION:Hochbergerstrasse 158\, Basel\, CH
DESCRIPTION:Im ehemaligen Buerogebaeude des Amts fuer Umwelt und Energie h
 at der Kanton Basel-Stadt im Rahmen des Wohnbauprogramms 1000+ preisguenst
 ige und moderne 2- bis 4.5-Zimmerwohnungen erstellt. Zudem betreibt der Ve
 rein tonRaum in der Liegenschaft professionelle Probe- und Arbeitsraeume f
 uer Musikschaffende. Das Gebaeude wurde bis auf den Rohbau rueckgebaut um 
 die hohe Ausnutzung der Parzelle beizubehalten und den CO2-Ausstoss gegenu
 eber einem Neubau zu verringern.\n\nEigentuemerin / Bauherrschaft: Kanton 
 Basel-Stadt in Vertretung der Einwohnergemeinde der Stadt Basel.\n\nNur im
  Rahmen einer Fuehrung. Keine Anmeldung mehr moeglich - ausgebucht!
ORGANIZER;CN="Architektur Dialoge":mailto:info@architekturdialoge.ch
URL;VALUE=URI:https://architekturdialoge.ch/api/agenda-deeplink/68eecc82fa
 652b222187ed77
END:VEVENT
END:VCALENDAR