BEGIN:VCALENDAR
VERSION:2.0
PRODID:-//sebbo.net//ical-generator//EN
METHOD:PUBLISH
TIMEZONE-ID:Europe/Zurich
X-WR-TIMEZONE:Europe/Zurich
BEGIN:VEVENT
UID:226b1103-041b-4a57-a560-553bb9d39829
SEQUENCE:0
DTSTAMP:20260423T134758
DTSTART:20250916T180000
DTEND:20250916T190000
SUMMARY:EXKLUSIV - Besichtigung
LOCATION:Globus | Basel\, CH
DESCRIPTION:Zweimal pro Jahr wird exklusiv fuer den Freundeskreis eine bes
 ondere Veranstaltung – ein EXKLUSIV – organisiert. Die Stiftung laedt 
 den Freundeskreis zu Erstbesichtigungen von Bauten ein\, bei denen eine pe
 rsoenliche Fuehrung durch die Architekten\, Planer und Eigentuemern erfolg
 t. Keine oeffentliche Einladung\, nur fuer Mitglieder vom Freundeskreis de
 r Stiftung Architektur Dialoge. Als Mitglied erhalten Sie die Einladung pe
 r E-Mail.
ORGANIZER;CN="Architektur Dialoge":mailto:info@architekturdialoge.ch
URL;VALUE=URI:https://architekturdialoge.ch/api/agenda-deeplink/68eecc85fa
 652b222187ed85
END:VEVENT
END:VCALENDAR