BEGIN:VCALENDAR
VERSION:2.0
PRODID:-//sebbo.net//ical-generator//EN
METHOD:PUBLISH
TIMEZONE-ID:Europe/Zurich
X-WR-TIMEZONE:Europe/Zurich
BEGIN:VEVENT
UID:d9024566-0357-472b-b1e3-449ff35112d2
SEQUENCE:0
DTSTAMP:20260423T160549
DTSTART:20250815T173000
DTEND:20250815T183000
SUMMARY:HIER UND JETZT NO. 3/2025 - FREIE BESICHTIGUNG
LOCATION:Gallenweg 2–4a\, Pratteln\, CH
DESCRIPTION:Die Gewerbebauten der Zentrale Pratteln werden mit gezielten E
 ingriffen aufgeraeumt\, statisch ertuechtigt\, thermisch saniert und zum k
 uenftigen Wohnquartier geoeffnet – bereit fuer eine genossenschaftliche 
 Zukunft. Ein Fokus liegt dabei auf dem Re-Use von Bauteilen\, insbesondere
  in der Fassade\, die sich aus wiederverwendeten Blechen und Fenstern zusa
 mmenfuegt.\n\nKostenfreie Besichtigung um 17:30 Uhr\, keine Anmeldung noet
 ig.
ORGANIZER;CN="Architektur Dialoge":mailto:info@architekturdialoge.ch
URL;VALUE=URI:https://architekturdialoge.ch/api/agenda-deeplink/68eeccb5fa
 652b222187ede9
END:VEVENT
END:VCALENDAR