BEGIN:VCALENDAR
VERSION:2.0
PRODID:-//sebbo.net//ical-generator//EN
METHOD:PUBLISH
TIMEZONE-ID:Europe/Zurich
X-WR-TIMEZONE:Europe/Zurich
BEGIN:VEVENT
UID:c0e2bae4-17d5-4fe5-9788-fa5bfc41a46b
SEQUENCE:0
DTSTAMP:20260423T135608
DTSTART:20250612T183000
DTEND:20250612T193000
SUMMARY:ArchiChill 2025
LOCATION:Brauerei Unser Bier | Gundeldingerstrasse 287\, Basel\, CH
DESCRIPTION:Sommerfest — Gerne laden wir Sie zum traditionellen „Archi
 Chill“ ein. Lernen Sie die Macher:innen von Architektur Dialoge kennen u
 nd geniessen Sie den entspannten Austausch rund um die Baukultur mit Archi
 tekt:innen und Interessierten.\n\nUm 19:30 Uhr wird der Stiftungsratspräs
 ident Christian W. Blaser kurz über die Aktivitäten der Stiftung spreche
 n. Danach stellt Manuel Herz (Manuel Herz Architekten) den Schweizer Pavil
 lon der diesjährigen Weltausstellung – der Expo 2025 – in Osaka vor. 
 Das Gebaeude verwebt die Kategorien Natur und Kultur bzw. Naturraum und vo
 m Menschen geschaffenem Raum\, die oft als getrennt und diskret angesehen 
 werden\, miteinander.\n\nStossen Sie mit uns an und geniessen den Apéro i
 n geselliger Runde.\n\nEinladung als PDF. Bitte melden Sie sich verbindlic
 h über diesen Link an.\n\nWir freuen uns auf Euch!\n\nStiftungsrat Archit
 ektur Dialoge
ORGANIZER;CN="Architektur Dialoge":mailto:info@architekturdialoge.ch
URL;VALUE=URI:https://architekturdialoge.ch/api/agenda-deeplink/68eecccffa
 652b222187ee22
END:VEVENT
END:VCALENDAR