BEGIN:VCALENDAR
VERSION:2.0
PRODID:-//sebbo.net//ical-generator//EN
METHOD:PUBLISH
TIMEZONE-ID:Europe/Zurich
X-WR-TIMEZONE:Europe/Zurich
BEGIN:VEVENT
UID:b47dfb90-640c-4deb-a66b-a99cf0a66b67
SEQUENCE:0
DTSTAMP:20260423T161338
DTSTART:20250604T190000
DTEND:20250604T200000
SUMMARY:Quo vadis Netto-Null? – Eine Standortbestimmung - Stadtgespräch
LOCATION:UBS Kundenhalle | Aeschenvorstadt 1\, Basel\, CH
DESCRIPTION:Live-Stream auf dem Youtube-Kanal von Architektur Dialoge.\n\n
 In weniger als 12 Jahren schreiben wir das Jahr 2037\, weitere 13 Jahre sp
 äter das Jahr 2050. Welche konkreten neuen Rahmenbedingungen erwarten Pla
 nende\, Bauwillige und Investorinnen sowie die gesamte Baubranche mit Nett
 o-Null 2037 und dem Übereinkommen von Paris mit der Verpflichtung zu Nett
 o-Null bis 2050? Welche Instrumente und Konzepte wurden bisher entwickelt?
  Wo stehen wir? Was funktioniert? Wo liegen die Probleme? Was brauchen wir
 ? Und wohin geht die Reise?\n\nGemeinsam mit den Fachverbänden BSA Basel 
 und SIA Basel diskutieren wir von Architektur Dialoge diese Fragen im Rahm
 en des Stadtgesprächs am 4. Juni 2025. Keynotes von Marianne Meister (Sol
 anellas Van Noten Meister\, Projektleiterin Bauvorhaben Schliengerweg\, Ba
 sel) und Remo Thalmann (ZPF Ingenieure\, Grüne BS) bilden den Auftakt der
  Veranstaltung bevor Dieter Kohler unsere Podiumsgäste zum Gespräch bitt
 et.\n\nPodium: Marianne Meister\, Architektin\, Solanellas Van Noten Meist
 er\, BS. Remo Thalmann\, ZPF Ingenieure\, Grüne BS. Christina Bronowski\,
  Leiterin Entwicklung Immobilien BS. PD Dr. Oliver Streiff\, Leiter Fachst
 elle Staedtebau- und Umweltrecht\, ZHAW. Ladina Thurnherr\, Masterstudenti
 n FHNW.\n\nEinführung: Judith Bertram-Kaufmann\, Architektur Dialoge. Mod
 eration: Dieter Kohler\, Journalist/Moderator.
ORGANIZER;CN="Architektur Dialoge":mailto:info@architekturdialoge.ch
URL;VALUE=URI:https://architekturdialoge.ch/api/agenda-deeplink/68eecceffa
 652b222187ee6b
END:VEVENT
END:VCALENDAR