BEGIN:VCALENDAR
VERSION:2.0
PRODID:-//sebbo.net//ical-generator//EN
METHOD:PUBLISH
TIMEZONE-ID:Europe/Zurich
X-WR-TIMEZONE:Europe/Zurich
BEGIN:VEVENT
UID:e86ae440-3645-4c13-ab0d-ec6611b4a7ec
SEQUENCE:0
DTSTAMP:20260423T135526
DTSTART:20250504T080000
DTEND:20250504T090000
SUMMARY:mit Architektur Dialoge nach La Neuveville und Biel-Bienne (CH) - 
 ARCHITEKTUR-TAGESREISE
LOCATION:CH
DESCRIPTION:Mit grosser Freude laden wir Sie zu einer exklusiven Architekt
 urreise ein! Entdecken Sie mit uns Highlights dieser spannenden Stadte und
  ihrer Umgebungen. Lassen Sie uns gemeinsam innovative Bauwerke und vision
 are Buroe erleben – begleitet von renommierten Architektinnen und Archit
 ekten sowie Expertinnen und Experten.\n\nNoch 1 freier Platz.\n\nDetails z
 u Programm und Anmeldung
ORGANIZER;CN="Architektur Dialoge":mailto:info@architekturdialoge.ch
URL;VALUE=URI:https://architekturdialoge.ch/api/agenda-deeplink/68eecd23fa
 652b222187eec3
END:VEVENT
END:VCALENDAR