BEGIN:VCALENDAR
VERSION:2.0
PRODID:-//sebbo.net//ical-generator//EN
METHOD:PUBLISH
TIMEZONE-ID:Europe/Zurich
X-WR-TIMEZONE:Europe/Zurich
BEGIN:VEVENT
UID:0a1ed1ae-d0e7-4f1c-a024-b6feae27317d
SEQUENCE:0
DTSTAMP:20260423T135142
DTSTART:20260505T190000
DTEND:20260505T200000
SUMMARY:Millionenstadt Basel - die Stadtwerdung der Agglomeration - Stadtg
 espräch
LOCATION:UBS Kundenhalle | Aeschenvorstadt 1\, Basel\, CH
DESCRIPTION:Wir nehmen die im Juni stattfindende Abstimmung über die Init
 iative «Keine 10 Millionen Schweiz» zum Anlass\, um über den Grossraum
  Basel und seine mögliche Weiterentwicklung zu diskutieren. \nNach einem 
 Input zum Potential des trinationalen Raums und von stadtnahen Transformat
 ionsarealen werden Wachstumsängste und Probleme dargelegt\, Identitätsfr
 agen diskutiert und Lösungsansätze entwickelt. \n\nWie wollen wir Stadtp
 lanung betreiben? Ist unser heutiger\, ökonomisch getriebener Ansatz rich
 tig? Wie gehen wir mit unserem öffentlichen Raum um? Und wollen und solle
 n wir überhaupt weiter wachsen?\n\nMit Kurzinputs von «Metrobasel» und 
 der Gemeinde Allschwil zum Transformationsgebiet Ziegelei-Letten.  \n\nE
 inführung: Judith Bertram-Kaufmann\, Architektur Dialoge. \nModeration: D
 ieter Kohler\, Journalist/Moderator.
ORGANIZER;CN="Architektur Dialoge":mailto:info@architekturdialoge.ch
URL;VALUE=URI:https://architekturdialoge.ch/api/agenda-deeplink/697b733f90
 d69f11a7b53b3d
END:VEVENT
END:VCALENDAR