BEGIN:VCALENDAR
VERSION:2.0
PRODID:-//sebbo.net//ical-generator//EN
METHOD:PUBLISH
TIMEZONE-ID:Europe/Zurich
X-WR-TIMEZONE:Europe/Zurich
BEGIN:VEVENT
UID:99ad0255-d852-48fe-8b82-3636e37b8f53
SEQUENCE:0
DTSTAMP:20260423T134712
DTSTART:20260528T210000
DTEND:20260528T220000
SUMMARY:Jubiläumsfest  - «20 Jahre Architektur Dialoge»
LOCATION:Turbinenhaus / Aktienmühle | Gärtnerstrasse 46\, Basel\, CH
DESCRIPTION:Architektur Dialoge feiert 20 Jahre Baukultur in Basel – mit
  einem Abend zwischen Rückblick und Ausblick.\n\nMit Impulsen zu «Lebens
 räume der Zukunft» mit Gästen aus Kultur\, Forschung und Praxis.\n\nDer
  Anlass ist bis 21 Uhr ausschliesslich für geladene Gäste.\nAb 21.00 Uhr
  ist das Fest öffentlich und offen für alle.\n\n18 Uhr Beginn\n19 Uhr Zu
 kunftsSLAM\n21 Uhr: Öffnung für alle / Party\n\nWir feiern weiter – mi
 t DJ Sandra Lichtenstern (Kollektiv Avalon)\, die für den passenden Sound
  zum Jubiläum sorgt.
ORGANIZER;CN="Architektur Dialoge":mailto:info@architekturdialoge.ch
URL;VALUE=URI:https://architekturdialoge.ch/api/agenda-deeplink/698c65db52
 b1bd6c5209abe2
END:VEVENT
END:VCALENDAR